BEGIN:VCALENDAR
VERSION:2.0
PRODID:-//Kerkje van Persingen - ECPv4.9.12//NONSGML v1.0//EN
CALSCALE:GREGORIAN
METHOD:PUBLISH
X-WR-CALNAME:Kerkje van Persingen
X-ORIGINAL-URL:https://kerkjevanpersingen.nl
X-WR-CALDESC:Events for Kerkje van Persingen
BEGIN:VTIMEZONE
TZID:Europe/Amsterdam
BEGIN:DAYLIGHT
TZOFFSETFROM:+0100
TZOFFSETTO:+0200
TZNAME:CEST
DTSTART:20240331T010000
END:DAYLIGHT
BEGIN:STANDARD
TZOFFSETFROM:+0200
TZOFFSETTO:+0100
TZNAME:CET
DTSTART:20241027T010000
END:STANDARD
END:VTIMEZONE
BEGIN:VEVENT
DTSTART;TZID=Europe/Amsterdam:20241115T093000
DTEND;TZID=Europe/Amsterdam:20241115T123000
DTSTAMP:20260424T132405
CREATED:20241111T232452Z
LAST-MODIFIED:20241111T232452Z
UID:5269-1731663000-1731673800@kerkjevanpersingen.nl
SUMMARY:Uitvaartplechtigheid
DESCRIPTION:
URL:https://kerkjevanpersingen.nl/expositie/uitvaartplechtigheid/
CATEGORIES:Uitvaart
END:VEVENT
END:VCALENDAR