BEGIN:VCALENDAR
VERSION:2.0
PRODID:-//Kerkje van Persingen - ECPv4.9.12//NONSGML v1.0//EN
CALSCALE:GREGORIAN
METHOD:PUBLISH
X-WR-CALNAME:Kerkje van Persingen
X-ORIGINAL-URL:https://kerkjevanpersingen.nl
X-WR-CALDESC:Events for Kerkje van Persingen
BEGIN:VTIMEZONE
TZID:Europe/Amsterdam
BEGIN:DAYLIGHT
TZOFFSETFROM:+0100
TZOFFSETTO:+0200
TZNAME:CEST
DTSTART:20220327T010000
END:DAYLIGHT
BEGIN:STANDARD
TZOFFSETFROM:+0200
TZOFFSETTO:+0100
TZNAME:CET
DTSTART:20221030T010000
END:STANDARD
END:VTIMEZONE
BEGIN:VEVENT
DTSTART;TZID=Europe/Amsterdam:20220625T110000
DTEND;TZID=Europe/Amsterdam:20220626T170000
DTSTAMP:20260423T115541
CREATED:20200803T071322Z
LAST-MODIFIED:20200803T071322Z
UID:3990-1656154800-1656262800@kerkjevanpersingen.nl
SUMMARY:Ineke Teunissen\, Fenna van Keulen\, Lin Hageman
DESCRIPTION:
URL:https://kerkjevanpersingen.nl/expositie/ineke-teunissen-fenna-van-keulen-lin-hageman/
CATEGORIES:Groeps expositie
END:VEVENT
END:VCALENDAR