BEGIN:VCALENDAR
VERSION:2.0
PRODID:-//Kerkje van Persingen - ECPv4.9.12//NONSGML v1.0//EN
CALSCALE:GREGORIAN
METHOD:PUBLISH
X-WR-CALNAME:Kerkje van Persingen
X-ORIGINAL-URL:https://kerkjevanpersingen.nl
X-WR-CALDESC:Events for Kerkje van Persingen
BEGIN:VTIMEZONE
TZID:Europe/Amsterdam
BEGIN:DAYLIGHT
TZOFFSETFROM:+0100
TZOFFSETTO:+0200
TZNAME:CEST
DTSTART:20200329T010000
END:DAYLIGHT
BEGIN:STANDARD
TZOFFSETFROM:+0200
TZOFFSETTO:+0100
TZNAME:CET
DTSTART:20201025T010000
END:STANDARD
END:VTIMEZONE
BEGIN:VEVENT
DTSTART;TZID=Europe/Amsterdam:20200808T110000
DTEND;TZID=Europe/Amsterdam:20200809T170000
DTSTAMP:20260424T165948
CREATED:20200611T094842Z
LAST-MODIFIED:20200716T134752Z
UID:3948-1596884400-1596992400@kerkjevanpersingen.nl
SUMMARY:Chuck Baker\, Hans Baker en Pien Versteegh
DESCRIPTION:
URL:https://kerkjevanpersingen.nl/expositie/chuck-baker/
CATEGORIES:Groeps expositie
END:VEVENT
END:VCALENDAR