BEGIN:VCALENDAR
VERSION:2.0
PRODID:-//Kerkje van Persingen - ECPv4.9.12//NONSGML v1.0//EN
CALSCALE:GREGORIAN
METHOD:PUBLISH
X-WR-CALNAME:Kerkje van Persingen
X-ORIGINAL-URL:https://kerkjevanpersingen.nl
X-WR-CALDESC:Events for Kerkje van Persingen
BEGIN:VTIMEZONE
TZID:Europe/Amsterdam
BEGIN:DAYLIGHT
TZOFFSETFROM:+0100
TZOFFSETTO:+0200
TZNAME:CEST
DTSTART:20220327T010000
END:DAYLIGHT
BEGIN:STANDARD
TZOFFSETFROM:+0200
TZOFFSETTO:+0100
TZNAME:CET
DTSTART:20221030T010000
END:STANDARD
END:VTIMEZONE
BEGIN:VEVENT
DTSTART;TZID=Europe/Amsterdam:20220108T110000
DTEND;TZID=Europe/Amsterdam:20220109T170000
DTSTAMP:20260423T212759
CREATED:20200918T100234Z
LAST-MODIFIED:20211219T155129Z
UID:4021-1641639600-1641747600@kerkjevanpersingen.nl
SUMMARY:John van der Horst Geannuleerd i.v.m. Corona
DESCRIPTION:
URL:https://kerkjevanpersingen.nl/expositie/john-van-der-horst/
CATEGORIES:Expositie
END:VEVENT
END:VCALENDAR