BEGIN:VCALENDAR
VERSION:2.0
PRODID:-//Kerkje van Persingen - ECPv4.9.12//NONSGML v1.0//EN
CALSCALE:GREGORIAN
METHOD:PUBLISH
X-WR-CALNAME:Kerkje van Persingen
X-ORIGINAL-URL:https://kerkjevanpersingen.nl
X-WR-CALDESC:Events for Kerkje van Persingen
BEGIN:VTIMEZONE
TZID:Europe/Amsterdam
BEGIN:DAYLIGHT
TZOFFSETFROM:+0100
TZOFFSETTO:+0200
TZNAME:CEST
DTSTART:20210328T010000
END:DAYLIGHT
BEGIN:STANDARD
TZOFFSETFROM:+0200
TZOFFSETTO:+0100
TZNAME:CET
DTSTART:20211031T010000
END:STANDARD
END:VTIMEZONE
BEGIN:VEVENT
DTSTART;TZID=Europe/Amsterdam:20210109T110000
DTEND;TZID=Europe/Amsterdam:20210110T170000
DTSTAMP:20260424T123105
CREATED:20201216T144214Z
LAST-MODIFIED:20201216T145853Z
UID:4111-1610190000-1610298000@kerkjevanpersingen.nl
SUMMARY:Frank Terence Keen geannuleerd i.v.m. Corona
DESCRIPTION:
URL:https://kerkjevanpersingen.nl/expositie/frank-terenskeen-geannuleerd-i-v-m-corona/
CATEGORIES:Expositie
END:VEVENT
END:VCALENDAR