BEGIN:VCALENDAR
VERSION:2.0
PRODID:-//Kerkje van Persingen - ECPv4.9.12//NONSGML v1.0//EN
CALSCALE:GREGORIAN
METHOD:PUBLISH
X-WR-CALNAME:Kerkje van Persingen
X-ORIGINAL-URL:https://kerkjevanpersingen.nl
X-WR-CALDESC:Events for Kerkje van Persingen
BEGIN:VTIMEZONE
TZID:Europe/Amsterdam
BEGIN:DAYLIGHT
TZOFFSETFROM:+0100
TZOFFSETTO:+0200
TZNAME:CEST
DTSTART:20240331T010000
END:DAYLIGHT
BEGIN:STANDARD
TZOFFSETFROM:+0200
TZOFFSETTO:+0100
TZNAME:CET
DTSTART:20241027T010000
END:STANDARD
END:VTIMEZONE
BEGIN:VEVENT
DTSTART;TZID=Europe/Amsterdam:20240120T080000
DTEND;TZID=Europe/Amsterdam:20240121T170000
DTSTAMP:20260419T162221
CREATED:20221010T171146Z
LAST-MODIFIED:20221226T115542Z
UID:4552-1705737600-1705856400@kerkjevanpersingen.nl
SUMMARY:Winterstop i.v.m. stookkosten
DESCRIPTION:
URL:https://kerkjevanpersingen.nl/expositie/winterstop-i-v-m-stookkosten-6/
CATEGORIES:Expositie,Winterstop
END:VEVENT
END:VCALENDAR