BEGIN:VCALENDAR
VERSION:2.0
PRODID:-//Kerkje van Persingen - ECPv4.9.12//NONSGML v1.0//EN
CALSCALE:GREGORIAN
METHOD:PUBLISH
X-WR-CALNAME:Kerkje van Persingen
X-ORIGINAL-URL:https://kerkjevanpersingen.nl
X-WR-CALDESC:Events for Kerkje van Persingen
BEGIN:VTIMEZONE
TZID:Europe/Amsterdam
BEGIN:DAYLIGHT
TZOFFSETFROM:+0100
TZOFFSETTO:+0200
TZNAME:CEST
DTSTART:20290325T010000
END:DAYLIGHT
BEGIN:STANDARD
TZOFFSETFROM:+0200
TZOFFSETTO:+0100
TZNAME:CET
DTSTART:20291028T010000
END:STANDARD
END:VTIMEZONE
BEGIN:VEVENT
DTSTART;TZID=Europe/Amsterdam:20290127T080000
DTEND;TZID=Europe/Amsterdam:20290128T170000
DTSTAMP:20260421T021746
CREATED:20250206T104539Z
LAST-MODIFIED:20250206T104539Z
UID:5356-1864195200-1864314000@kerkjevanpersingen.nl
SUMMARY:Winterstop i.v.m. stookkosten
DESCRIPTION:
URL:https://kerkjevanpersingen.nl/expositie/winterstop-i-v-m-stookkosten-39/
CATEGORIES:Winterstop
END:VEVENT
END:VCALENDAR