BEGIN:VCALENDAR
VERSION:2.0
PRODID:-//Kerkje van Persingen - ECPv4.9.12//NONSGML v1.0//EN
CALSCALE:GREGORIAN
METHOD:PUBLISH
X-WR-CALNAME:Kerkje van Persingen
X-ORIGINAL-URL:https://kerkjevanpersingen.nl
X-WR-CALDESC:Events for Kerkje van Persingen
BEGIN:VTIMEZONE
TZID:Europe/Amsterdam
BEGIN:DAYLIGHT
TZOFFSETFROM:+0100
TZOFFSETTO:+0200
TZNAME:CEST
DTSTART:20220327T010000
END:DAYLIGHT
BEGIN:STANDARD
TZOFFSETFROM:+0200
TZOFFSETTO:+0100
TZNAME:CET
DTSTART:20221030T010000
END:STANDARD
END:VTIMEZONE
BEGIN:VEVENT
DTSTART;TZID=Europe/Amsterdam:20220705T110000
DTEND;TZID=Europe/Amsterdam:20220707T200000
DTSTAMP:20260423T144542
CREATED:20211019T130253Z
LAST-MODIFIED:20220125T090604Z
UID:4309-1657018800-1657224000@kerkjevanpersingen.nl
SUMMARY:Sophia Roffel en Tineke Demmer
DESCRIPTION:
URL:https://kerkjevanpersingen.nl/expositie/sophia-roffel/
CATEGORIES:Dubbel expositie
END:VEVENT
END:VCALENDAR