BEGIN:VCALENDAR
VERSION:2.0
PRODID:-//Kerkje van Persingen - ECPv4.9.12//NONSGML v1.0//EN
CALSCALE:GREGORIAN
METHOD:PUBLISH
X-WR-CALNAME:Kerkje van Persingen
X-ORIGINAL-URL:https://kerkjevanpersingen.nl
X-WR-CALDESC:Events for Kerkje van Persingen
BEGIN:VTIMEZONE
TZID:Europe/Amsterdam
BEGIN:DAYLIGHT
TZOFFSETFROM:+0100
TZOFFSETTO:+0200
TZNAME:CEST
DTSTART:20230326T010000
END:DAYLIGHT
BEGIN:STANDARD
TZOFFSETFROM:+0200
TZOFFSETTO:+0100
TZNAME:CET
DTSTART:20231029T010000
END:STANDARD
END:VTIMEZONE
BEGIN:VEVENT
DTSTART;TZID=Europe/Amsterdam:20230826T110000
DTEND;TZID=Europe/Amsterdam:20230827T170000
DTSTAMP:20260419T172450
CREATED:20201201T124843Z
LAST-MODIFIED:20201201T125154Z
UID:4096-1693047600-1693155600@kerkjevanpersingen.nl
SUMMARY:Peter van de Ven
DESCRIPTION:
URL:https://kerkjevanpersingen.nl/expositie/peter-van-de-ven/
CATEGORIES:Expositie
END:VEVENT
END:VCALENDAR