BEGIN:VCALENDAR
VERSION:2.0
PRODID:-//Kerkje van Persingen - ECPv4.9.12//NONSGML v1.0//EN
CALSCALE:GREGORIAN
METHOD:PUBLISH
X-WR-CALNAME:Kerkje van Persingen
X-ORIGINAL-URL:https://kerkjevanpersingen.nl
X-WR-CALDESC:Events for Kerkje van Persingen
BEGIN:VTIMEZONE
TZID:Europe/Amsterdam
BEGIN:DAYLIGHT
TZOFFSETFROM:+0100
TZOFFSETTO:+0200
TZNAME:CEST
DTSTART:20220327T010000
END:DAYLIGHT
BEGIN:STANDARD
TZOFFSETFROM:+0200
TZOFFSETTO:+0100
TZNAME:CET
DTSTART:20221030T010000
END:STANDARD
END:VTIMEZONE
BEGIN:VEVENT
DTSTART;TZID=Europe/Amsterdam:20220702T110000
DTEND;TZID=Europe/Amsterdam:20220703T170000
DTSTAMP:20260423T131922
CREATED:20210729T103655Z
LAST-MODIFIED:20210729T103655Z
UID:4257-1656759600-1656867600@kerkjevanpersingen.nl
SUMMARY:Peter Hein en Kees Boer
DESCRIPTION:
URL:https://kerkjevanpersingen.nl/expositie/peter-hein-en-kees-boer/
CATEGORIES:Dubbel expositie
END:VEVENT
END:VCALENDAR