BEGIN:VCALENDAR
VERSION:2.0
PRODID:-//Kerkje van Persingen - ECPv4.9.12//NONSGML v1.0//EN
CALSCALE:GREGORIAN
METHOD:PUBLISH
X-WR-CALNAME:Kerkje van Persingen
X-ORIGINAL-URL:https://kerkjevanpersingen.nl
X-WR-CALDESC:Events for Kerkje van Persingen
BEGIN:VTIMEZONE
TZID:Europe/Amsterdam
BEGIN:DAYLIGHT
TZOFFSETFROM:+0100
TZOFFSETTO:+0200
TZNAME:CEST
DTSTART:20230326T010000
END:DAYLIGHT
BEGIN:STANDARD
TZOFFSETFROM:+0200
TZOFFSETTO:+0100
TZNAME:CET
DTSTART:20231029T010000
END:STANDARD
END:VTIMEZONE
BEGIN:VEVENT
DTSTART;TZID=Europe/Amsterdam:20230128T110000
DTEND;TZID=Europe/Amsterdam:20230129T170000
DTSTAMP:20260421T065022
CREATED:20211220T161829Z
LAST-MODIFIED:20221124T115622Z
UID:4349-1674903600-1675011600@kerkjevanpersingen.nl
SUMMARY:expositie Paul van Ernich
DESCRIPTION:
URL:https://kerkjevanpersingen.nl/expositie/paul-van-ernich/
CATEGORIES:Expositie
END:VEVENT
END:VCALENDAR