BEGIN:VCALENDAR
VERSION:2.0
PRODID:-//Kerkje van Persingen - ECPv4.9.12//NONSGML v1.0//EN
CALSCALE:GREGORIAN
METHOD:PUBLISH
X-WR-CALNAME:Kerkje van Persingen
X-ORIGINAL-URL:https://kerkjevanpersingen.nl
X-WR-CALDESC:Events for Kerkje van Persingen
BEGIN:VTIMEZONE
TZID:Europe/Amsterdam
BEGIN:DAYLIGHT
TZOFFSETFROM:+0100
TZOFFSETTO:+0200
TZNAME:CEST
DTSTART:20200329T010000
END:DAYLIGHT
BEGIN:STANDARD
TZOFFSETFROM:+0200
TZOFFSETTO:+0100
TZNAME:CET
DTSTART:20201025T010000
END:STANDARD
END:VTIMEZONE
BEGIN:VEVENT
DTSTART;TZID=Europe/Amsterdam:20200229T110000
DTEND;TZID=Europe/Amsterdam:20200229T170000
DTSTAMP:20260423T200812
CREATED:20180924T141027Z
LAST-MODIFIED:20180924T141027Z
UID:3180-1582974000-1582995600@kerkjevanpersingen.nl
SUMMARY:Paul de Werd
DESCRIPTION:http://www.pauldewerd.nl/ \n
URL:https://kerkjevanpersingen.nl/expositie/paul-de-werd/2020-02-29/
CATEGORIES:Expositie
END:VEVENT
END:VCALENDAR