BEGIN:VCALENDAR
VERSION:2.0
PRODID:-//Kerkje van Persingen - ECPv4.9.12//NONSGML v1.0//EN
CALSCALE:GREGORIAN
METHOD:PUBLISH
X-WR-CALNAME:Kerkje van Persingen
X-ORIGINAL-URL:https://kerkjevanpersingen.nl
X-WR-CALDESC:Events for Kerkje van Persingen
BEGIN:VTIMEZONE
TZID:Europe/Amsterdam
BEGIN:DAYLIGHT
TZOFFSETFROM:+0100
TZOFFSETTO:+0200
TZNAME:CEST
DTSTART:20200329T010000
END:DAYLIGHT
BEGIN:STANDARD
TZOFFSETFROM:+0200
TZOFFSETTO:+0100
TZNAME:CET
DTSTART:20201025T010000
END:STANDARD
END:VTIMEZONE
BEGIN:VEVENT
DTSTART;TZID=Europe/Amsterdam:20200627T110000
DTEND;TZID=Europe/Amsterdam:20200627T170000
DTSTAMP:20260423T212744
CREATED:20181005T185838Z
LAST-MODIFIED:20181106T150851Z
UID:3229-1593255600-1593277200@kerkjevanpersingen.nl
SUMMARY:Jan Gerris
DESCRIPTION:
URL:https://kerkjevanpersingen.nl/expositie/optie-jan-gerris/2020-06-27/
CATEGORIES:Expositie
END:VEVENT
END:VCALENDAR