BEGIN:VCALENDAR
VERSION:2.0
PRODID:-//Kerkje van Persingen - ECPv4.9.12//NONSGML v1.0//EN
CALSCALE:GREGORIAN
METHOD:PUBLISH
X-WR-CALNAME:Kerkje van Persingen
X-ORIGINAL-URL:https://kerkjevanpersingen.nl
X-WR-CALDESC:Events for Kerkje van Persingen
BEGIN:VTIMEZONE
TZID:Europe/Amsterdam
BEGIN:DAYLIGHT
TZOFFSETFROM:+0100
TZOFFSETTO:+0200
TZNAME:CEST
DTSTART:20220327T010000
END:DAYLIGHT
BEGIN:STANDARD
TZOFFSETFROM:+0200
TZOFFSETTO:+0100
TZNAME:CET
DTSTART:20221030T010000
END:STANDARD
END:VTIMEZONE
BEGIN:VEVENT
DTSTART;TZID=Europe/Amsterdam:20220430T110000
DTEND;TZID=Europe/Amsterdam:20220501T170000
DTSTAMP:20260423T125027
CREATED:20200728T104117Z
LAST-MODIFIED:20220218T122416Z
UID:3986-1651316400-1651424400@kerkjevanpersingen.nl
SUMMARY:Marijke Teunissen\, Annelies Reijers
DESCRIPTION:
URL:https://kerkjevanpersingen.nl/expositie/marijke-teunissen-e-a/
CATEGORIES:Groeps expositie
END:VEVENT
END:VCALENDAR