BEGIN:VCALENDAR
VERSION:2.0
PRODID:-//Kerkje van Persingen - ECPv4.9.12//NONSGML v1.0//EN
CALSCALE:GREGORIAN
METHOD:PUBLISH
X-WR-CALNAME:Kerkje van Persingen
X-ORIGINAL-URL:https://kerkjevanpersingen.nl
X-WR-CALDESC:Events for Kerkje van Persingen
BEGIN:VTIMEZONE
TZID:Europe/Amsterdam
BEGIN:DAYLIGHT
TZOFFSETFROM:+0100
TZOFFSETTO:+0200
TZNAME:CEST
DTSTART:20200329T010000
END:DAYLIGHT
BEGIN:STANDARD
TZOFFSETFROM:+0200
TZOFFSETTO:+0100
TZNAME:CET
DTSTART:20201025T010000
END:STANDARD
END:VTIMEZONE
BEGIN:VEVENT
DTSTART;TZID=Europe/Amsterdam:20200314T110000
DTEND;TZID=Europe/Amsterdam:20200315T170000
DTSTAMP:20260423T184222
CREATED:20180614T124546Z
LAST-MODIFIED:20191121T103317Z
UID:3107-1584183600-1584291600@kerkjevanpersingen.nl
SUMMARY:Marijke Teunissen\, Judith Walboomers\, Annelies Reijers en Marlous Arnold
DESCRIPTION:
URL:https://kerkjevanpersingen.nl/expositie/marijke-teunissen-2/
LOCATION:Kerkje van Persingen
CATEGORIES:Groeps expositie
END:VEVENT
END:VCALENDAR