BEGIN:VCALENDAR
VERSION:2.0
PRODID:-//Kerkje van Persingen - ECPv4.9.12//NONSGML v1.0//EN
CALSCALE:GREGORIAN
METHOD:PUBLISH
X-WR-CALNAME:Kerkje van Persingen
X-ORIGINAL-URL:https://kerkjevanpersingen.nl
X-WR-CALDESC:Events for Kerkje van Persingen
BEGIN:VTIMEZONE
TZID:Europe/Amsterdam
BEGIN:DAYLIGHT
TZOFFSETFROM:+0100
TZOFFSETTO:+0200
TZNAME:CEST
DTSTART:20230326T010000
END:DAYLIGHT
BEGIN:STANDARD
TZOFFSETFROM:+0200
TZOFFSETTO:+0100
TZNAME:CET
DTSTART:20231029T010000
END:STANDARD
END:VTIMEZONE
BEGIN:VEVENT
DTSTART;TZID=Europe/Amsterdam:20230211T110000
DTEND;TZID=Europe/Amsterdam:20230212T170000
DTSTAMP:20260421T064531
CREATED:20211122T173405Z
LAST-MODIFIED:20221124T120000Z
UID:4329-1676113200-1676221200@kerkjevanpersingen.nl
SUMMARY:expositie Marie-Louise Fransen en Lies van Haaren
DESCRIPTION:
URL:https://kerkjevanpersingen.nl/expositie/marie-louise-fransen-en-lies-van-haaren-2/
CATEGORIES:Dubbel expositie
END:VEVENT
END:VCALENDAR