BEGIN:VCALENDAR
VERSION:2.0
PRODID:-//Kerkje van Persingen - ECPv4.9.12//NONSGML v1.0//EN
CALSCALE:GREGORIAN
METHOD:PUBLISH
X-WR-CALNAME:Kerkje van Persingen
X-ORIGINAL-URL:https://kerkjevanpersingen.nl
X-WR-CALDESC:Events for Kerkje van Persingen
BEGIN:VTIMEZONE
TZID:Europe/Amsterdam
BEGIN:DAYLIGHT
TZOFFSETFROM:+0100
TZOFFSETTO:+0200
TZNAME:CEST
DTSTART:20190331T010000
END:DAYLIGHT
BEGIN:STANDARD
TZOFFSETFROM:+0200
TZOFFSETTO:+0100
TZNAME:CET
DTSTART:20191027T010000
END:STANDARD
END:VTIMEZONE
BEGIN:VEVENT
DTSTART;TZID=Europe/Amsterdam:20191207T110000
DTEND;TZID=Europe/Amsterdam:20191208T170000
DTSTAMP:20260423T184816
CREATED:20180122T140811Z
LAST-MODIFIED:20180302T110124Z
UID:2934-1575716400-1575824400@kerkjevanpersingen.nl
SUMMARY:Kerstmarkt Stichting kerkje van Persingen.
DESCRIPTION:
URL:https://kerkjevanpersingen.nl/expositie/kerstmarkt-stichting-kerkje-van-persingen/
LOCATION:Kerkje van Persingen
CATEGORIES:Dubbel expositie,Markt
END:VEVENT
END:VCALENDAR