BEGIN:VCALENDAR
VERSION:2.0
PRODID:-//Kerkje van Persingen - ECPv4.9.12//NONSGML v1.0//EN
CALSCALE:GREGORIAN
METHOD:PUBLISH
X-WR-CALNAME:Kerkje van Persingen
X-ORIGINAL-URL:https://kerkjevanpersingen.nl
X-WR-CALDESC:Events for Kerkje van Persingen
BEGIN:VTIMEZONE
TZID:Europe/Amsterdam
BEGIN:DAYLIGHT
TZOFFSETFROM:+0100
TZOFFSETTO:+0200
TZNAME:CEST
DTSTART:20210328T010000
END:DAYLIGHT
BEGIN:STANDARD
TZOFFSETFROM:+0200
TZOFFSETTO:+0100
TZNAME:CET
DTSTART:20211031T010000
END:STANDARD
END:VTIMEZONE
BEGIN:VEVENT
DTSTART;TZID=Europe/Amsterdam:20210722T110000
DTEND;TZID=Europe/Amsterdam:20210722T170000
DTSTAMP:20260423T212119
CREATED:20210702T074953Z
LAST-MODIFIED:20210702T074953Z
UID:4243-1626951600-1626973200@kerkjevanpersingen.nl
SUMMARY:Jeannette Visser
DESCRIPTION:
URL:https://kerkjevanpersingen.nl/expositie/jeannette-visser-4/
CATEGORIES:Expositie
END:VEVENT
END:VCALENDAR