BEGIN:VCALENDAR
VERSION:2.0
PRODID:-//Kerkje van Persingen - ECPv4.9.12//NONSGML v1.0//EN
CALSCALE:GREGORIAN
METHOD:PUBLISH
X-WR-CALNAME:Kerkje van Persingen
X-ORIGINAL-URL:https://kerkjevanpersingen.nl
X-WR-CALDESC:Events for Kerkje van Persingen
BEGIN:VTIMEZONE
TZID:Europe/Amsterdam
BEGIN:DAYLIGHT
TZOFFSETFROM:+0100
TZOFFSETTO:+0200
TZNAME:CEST
DTSTART:20230326T010000
END:DAYLIGHT
BEGIN:STANDARD
TZOFFSETFROM:+0200
TZOFFSETTO:+0100
TZNAME:CET
DTSTART:20231029T010000
END:STANDARD
END:VTIMEZONE
BEGIN:VEVENT
DTSTART;TZID=Europe/Amsterdam:20230603T110000
DTEND;TZID=Europe/Amsterdam:20230604T170000
DTSTAMP:20260420T210410
CREATED:20210412T123904Z
LAST-MODIFIED:20210412T123904Z
UID:4203-1685790000-1685898000@kerkjevanpersingen.nl
SUMMARY:Ingrid Claessen en Bets Kusters
DESCRIPTION:
URL:https://kerkjevanpersingen.nl/expositie/ingrid-claessen-en-bets-kusters/
CATEGORIES:Dubbel expositie
END:VEVENT
END:VCALENDAR