BEGIN:VCALENDAR
VERSION:2.0
PRODID:-//Kerkje van Persingen - ECPv4.9.12//NONSGML v1.0//EN
CALSCALE:GREGORIAN
METHOD:PUBLISH
X-WR-CALNAME:Kerkje van Persingen
X-ORIGINAL-URL:https://kerkjevanpersingen.nl
X-WR-CALDESC:Events for Kerkje van Persingen
BEGIN:VTIMEZONE
TZID:Europe/Amsterdam
BEGIN:DAYLIGHT
TZOFFSETFROM:+0100
TZOFFSETTO:+0200
TZNAME:CEST
DTSTART:20200329T010000
END:DAYLIGHT
BEGIN:STANDARD
TZOFFSETFROM:+0200
TZOFFSETTO:+0100
TZNAME:CET
DTSTART:20201025T010000
END:STANDARD
END:VTIMEZONE
BEGIN:VEVENT
DTSTART;TZID=Europe/Amsterdam:20200322T110000
DTEND;TZID=Europe/Amsterdam:20200322T170000
DTSTAMP:20260423T223014
CREATED:20190716T144926Z
LAST-MODIFIED:20200315T161234Z
UID:3658-1584874800-1584896400@kerkjevanpersingen.nl
SUMMARY:Inge Winter Geannuleerd i.v.m. Corona
DESCRIPTION:
URL:https://kerkjevanpersingen.nl/expositie/inge-winter-2020-03-22/
CATEGORIES:Expositie
END:VEVENT
END:VCALENDAR