BEGIN:VCALENDAR
VERSION:2.0
PRODID:-//Kerkje van Persingen - ECPv4.9.12//NONSGML v1.0//EN
CALSCALE:GREGORIAN
METHOD:PUBLISH
X-WR-CALNAME:Kerkje van Persingen
X-ORIGINAL-URL:https://kerkjevanpersingen.nl
X-WR-CALDESC:Events for Kerkje van Persingen
BEGIN:VTIMEZONE
TZID:Europe/Amsterdam
BEGIN:DAYLIGHT
TZOFFSETFROM:+0100
TZOFFSETTO:+0200
TZNAME:CEST
DTSTART:20220327T010000
END:DAYLIGHT
BEGIN:STANDARD
TZOFFSETFROM:+0200
TZOFFSETTO:+0100
TZNAME:CET
DTSTART:20221030T010000
END:STANDARD
END:VTIMEZONE
BEGIN:VEVENT
DTSTART;TZID=Europe/Amsterdam:20220525T140000
DTEND;TZID=Europe/Amsterdam:20220525T140000
DTSTAMP:20260423T154559
CREATED:20190613T142417Z
LAST-MODIFIED:20210201T180408Z
UID:3638-1653487200-1653487200@kerkjevanpersingen.nl
SUMMARY:Huwelijk Letty en Sasha
DESCRIPTION:
URL:https://kerkjevanpersingen.nl/expositie/huwelijk-letty-en-sacha/
CATEGORIES:Huwelijk
END:VEVENT
END:VCALENDAR