BEGIN:VCALENDAR
VERSION:2.0
PRODID:-//Kerkje van Persingen - ECPv4.9.12//NONSGML v1.0//EN
CALSCALE:GREGORIAN
METHOD:PUBLISH
X-WR-CALNAME:Kerkje van Persingen
X-ORIGINAL-URL:https://kerkjevanpersingen.nl
X-WR-CALDESC:Events for Kerkje van Persingen
BEGIN:VTIMEZONE
TZID:Europe/Amsterdam
BEGIN:DAYLIGHT
TZOFFSETFROM:+0100
TZOFFSETTO:+0200
TZNAME:CEST
DTSTART:20230326T010000
END:DAYLIGHT
BEGIN:STANDARD
TZOFFSETFROM:+0200
TZOFFSETTO:+0100
TZNAME:CET
DTSTART:20231029T010000
END:STANDARD
END:VTIMEZONE
BEGIN:VEVENT
DTSTART;TZID=Europe/Amsterdam:20230707T130000
DTEND;TZID=Europe/Amsterdam:20230707T163000
DTSTAMP:20260420T045814
CREATED:20230203T111445Z
LAST-MODIFIED:20230203T111445Z
UID:4772-1688734800-1688747400@kerkjevanpersingen.nl
SUMMARY:huwelijk
DESCRIPTION:
URL:https://kerkjevanpersingen.nl/expositie/huwelijk-10/
CATEGORIES:Huwelijk
END:VEVENT
END:VCALENDAR