BEGIN:VCALENDAR
VERSION:2.0
PRODID:-//Kerkje van Persingen - ECPv4.9.12//NONSGML v1.0//EN
CALSCALE:GREGORIAN
METHOD:PUBLISH
X-WR-CALNAME:Kerkje van Persingen
X-ORIGINAL-URL:https://kerkjevanpersingen.nl
X-WR-CALDESC:Events for Kerkje van Persingen
BEGIN:VTIMEZONE
TZID:Europe/Amsterdam
BEGIN:DAYLIGHT
TZOFFSETFROM:+0100
TZOFFSETTO:+0200
TZNAME:CEST
DTSTART:20220327T010000
END:DAYLIGHT
BEGIN:STANDARD
TZOFFSETFROM:+0200
TZOFFSETTO:+0100
TZNAME:CET
DTSTART:20221030T010000
END:STANDARD
END:VTIMEZONE
BEGIN:VEVENT
DTSTART;TZID=Europe/Amsterdam:20220924T080000
DTEND;TZID=Europe/Amsterdam:20220925T170000
DTSTAMP:20260423T112101
CREATED:20200908T140645Z
LAST-MODIFIED:20220922T231122Z
UID:4001-1664006400-1664125200@kerkjevanpersingen.nl
SUMMARY:Gérard Philipsen\, Fred Knippen\, Laura Casas Valle\, Hank Kwint
DESCRIPTION:
URL:https://kerkjevanpersingen.nl/expositie/gerard-philipsen-fred-knippen-laura-casus-vale-hank-kwint/
CATEGORIES:Groeps expositie
END:VEVENT
END:VCALENDAR