BEGIN:VCALENDAR
VERSION:2.0
PRODID:-//Kerkje van Persingen - ECPv4.9.12//NONSGML v1.0//EN
CALSCALE:GREGORIAN
METHOD:PUBLISH
X-WR-CALNAME:Kerkje van Persingen
X-ORIGINAL-URL:https://kerkjevanpersingen.nl
X-WR-CALDESC:Events for Kerkje van Persingen
BEGIN:VTIMEZONE
TZID:Europe/Amsterdam
BEGIN:DAYLIGHT
TZOFFSETFROM:+0100
TZOFFSETTO:+0200
TZNAME:CEST
DTSTART:20280326T010000
END:DAYLIGHT
BEGIN:STANDARD
TZOFFSETFROM:+0200
TZOFFSETTO:+0100
TZNAME:CET
DTSTART:20281029T010000
END:STANDARD
END:VTIMEZONE
BEGIN:VEVENT
DTSTART;TZID=Europe/Amsterdam:20280520T110000
DTEND;TZID=Europe/Amsterdam:20280521T170000
DTSTAMP:20260420T113241
CREATED:20251229T192407Z
LAST-MODIFIED:20251229T192407Z
UID:5498-1842433200-1842541200@kerkjevanpersingen.nl
SUMMARY:Expositie Suzette Timmers Verhoeven icm Ank Stegenga
DESCRIPTION:
URL:https://kerkjevanpersingen.nl/expositie/expositie-suzette-timmers-verhoeven-icm-ank-stegenga/
CATEGORIES:Dubbel expositie
END:VEVENT
END:VCALENDAR