BEGIN:VCALENDAR
VERSION:2.0
PRODID:-//Kerkje van Persingen - ECPv4.9.12//NONSGML v1.0//EN
CALSCALE:GREGORIAN
METHOD:PUBLISH
X-WR-CALNAME:Kerkje van Persingen
X-ORIGINAL-URL:https://kerkjevanpersingen.nl
X-WR-CALDESC:Events for Kerkje van Persingen
BEGIN:VTIMEZONE
TZID:Europe/Amsterdam
BEGIN:DAYLIGHT
TZOFFSETFROM:+0100
TZOFFSETTO:+0200
TZNAME:CEST
DTSTART:20280326T010000
END:DAYLIGHT
BEGIN:STANDARD
TZOFFSETFROM:+0200
TZOFFSETTO:+0100
TZNAME:CET
DTSTART:20281029T010000
END:STANDARD
END:VTIMEZONE
BEGIN:VEVENT
DTSTART;TZID=Europe/Amsterdam:20280513T110000
DTEND;TZID=Europe/Amsterdam:20280514T170000
DTSTAMP:20260420T142446
CREATED:20250528T202437Z
LAST-MODIFIED:20250528T202437Z
UID:5418-1841828400-1841936400@kerkjevanpersingen.nl
SUMMARY:Expositie Hennie van den Hurk icm Betsie van der Cammen en Frans Kerstens
DESCRIPTION:
URL:https://kerkjevanpersingen.nl/expositie/expositie-hennie-van-den-hurk-icm-betsie-van-der-cammen-en-frans-kerstens/
CATEGORIES:Dubbel expositie
END:VEVENT
END:VCALENDAR