BEGIN:VCALENDAR
VERSION:2.0
PRODID:-//Kerkje van Persingen - ECPv4.9.12//NONSGML v1.0//EN
CALSCALE:GREGORIAN
METHOD:PUBLISH
X-WR-CALNAME:Kerkje van Persingen
X-ORIGINAL-URL:https://kerkjevanpersingen.nl
X-WR-CALDESC:Events for Kerkje van Persingen
BEGIN:VTIMEZONE
TZID:Europe/Amsterdam
BEGIN:DAYLIGHT
TZOFFSETFROM:+0100
TZOFFSETTO:+0200
TZNAME:CEST
DTSTART:20220327T010000
END:DAYLIGHT
BEGIN:STANDARD
TZOFFSETFROM:+0200
TZOFFSETTO:+0100
TZNAME:CET
DTSTART:20221030T010000
END:STANDARD
END:VTIMEZONE
BEGIN:VEVENT
DTSTART;TZID=Europe/Amsterdam:20221126T110000
DTEND;TZID=Europe/Amsterdam:20221127T170000
DTSTAMP:20260421T065255
CREATED:20200203T154337Z
LAST-MODIFIED:20220110T183821Z
UID:3849-1669460400-1669568400@kerkjevanpersingen.nl
SUMMARY:Hennita Jaspers en Sonja Vahl
DESCRIPTION:
URL:https://kerkjevanpersingen.nl/expositie/dewi-plass/
CATEGORIES:Expositie
END:VEVENT
END:VCALENDAR