BEGIN:VCALENDAR
VERSION:2.0
PRODID:-//Kerkje van Persingen - ECPv4.9.12//NONSGML v1.0//EN
CALSCALE:GREGORIAN
METHOD:PUBLISH
X-WR-CALNAME:Kerkje van Persingen
X-ORIGINAL-URL:https://kerkjevanpersingen.nl
X-WR-CALDESC:Events for Kerkje van Persingen
BEGIN:VTIMEZONE
TZID:Europe/Amsterdam
BEGIN:DAYLIGHT
TZOFFSETFROM:+0100
TZOFFSETTO:+0200
TZNAME:CEST
DTSTART:20230326T010000
END:DAYLIGHT
BEGIN:STANDARD
TZOFFSETFROM:+0200
TZOFFSETTO:+0100
TZNAME:CET
DTSTART:20231029T010000
END:STANDARD
END:VTIMEZONE
BEGIN:VEVENT
DTSTART;TZID=Europe/Amsterdam:20230318T110000
DTEND;TZID=Europe/Amsterdam:20230319T170000
DTSTAMP:20260421T033949
CREATED:20210502T132504Z
LAST-MODIFIED:20221216T124134Z
UID:4213-1679137200-1679245200@kerkjevanpersingen.nl
SUMMARY:expositie Anneke Kersten\,  Roos Cox en Hanneke van den Bergh
DESCRIPTION:
URL:https://kerkjevanpersingen.nl/expositie/anneke-kersten-en-roos-cox/
CATEGORIES:Dubbel expositie
END:VEVENT
END:VCALENDAR